BEGIN:VCALENDAR
VERSION:2.0
PRODID:-//Eventin//Event Calendar//EN
CALSCALE:GREGORIAN
METHOD:PUBLISH
BEGIN:VEVENT
UID:8df231621fc76b27e6ffe566353b6496@tixfest.qfxbackup.com
SUMMARY:Omega Fest 2.2
DESCRIPTION:Omega Fest 2.2 is not just a partyIt’s where vibes meet energ
 y\, strangers become people\, and memories turn legendary 💃🏽🕺🏽P
 arty ✔️Connect ✔️Grow ✔️Awka… just get ready 😮‍💨Becau
 se when this drops\, everybody will feel it 🌍🔥Don’t hear it from pe
 ople be THERE.\nHere is a Teaser\nhttps://vimeo.com/1183332753?share=copy&f
 l=sv&fe=ci
LOCATION:Somewhere in Awka
DTSTAMP:20260421T122016Z
DTSTART:20260522T190000Z
DTEND:20260523T040000Z
END:VEVENT
END:VCALENDAR
